BEGIN:VCALENDAR
VERSION:2.0
PRODID:-//Compagnie La Marelle Lausanne/Suisse - ECPv6.15.11//NONSGML v1.0//EN
CALSCALE:GREGORIAN
METHOD:PUBLISH
X-WR-CALNAME:Compagnie La Marelle Lausanne/Suisse
X-ORIGINAL-URL:https://compagnielamarelle.ch
X-WR-CALDESC:Évènements pour Compagnie La Marelle Lausanne/Suisse
REFRESH-INTERVAL;VALUE=DURATION:PT1H
X-Robots-Tag:noindex
X-PUBLISHED-TTL:PT1H
BEGIN:VTIMEZONE
TZID:Europe/Zurich
BEGIN:DAYLIGHT
TZOFFSETFROM:+0100
TZOFFSETTO:+0200
TZNAME:CEST
DTSTART:20240331T010000
END:DAYLIGHT
BEGIN:STANDARD
TZOFFSETFROM:+0200
TZOFFSETTO:+0100
TZNAME:CET
DTSTART:20241027T010000
END:STANDARD
BEGIN:DAYLIGHT
TZOFFSETFROM:+0100
TZOFFSETTO:+0200
TZNAME:CEST
DTSTART:20250330T010000
END:DAYLIGHT
BEGIN:STANDARD
TZOFFSETFROM:+0200
TZOFFSETTO:+0100
TZNAME:CET
DTSTART:20251026T010000
END:STANDARD
BEGIN:DAYLIGHT
TZOFFSETFROM:+0100
TZOFFSETTO:+0200
TZNAME:CEST
DTSTART:20260329T010000
END:DAYLIGHT
BEGIN:STANDARD
TZOFFSETFROM:+0200
TZOFFSETTO:+0100
TZNAME:CET
DTSTART:20261025T010000
END:STANDARD
END:VTIMEZONE
BEGIN:VEVENT
DTSTART;TZID=Europe/Zurich:20250513T200000
DTEND;TZID=Europe/Zurich:20250513T213000
DTSTAMP:20260421T184451
CREATED:20250410T102529Z
LAST-MODIFIED:20250410T103342Z
UID:29920-1747166400-1747171800@compagnielamarelle.ch
SUMMARY:BELFORT - Passé minuit\, Dr Schweitzer
DESCRIPTION:
URL:https://compagnielamarelle.ch/event/passe-minuit-dr-schweitzer/
LOCATION:Salle Kléber\, 2 rue Kléber\, Beffort\, France
ATTACH;FMTTYPE=image/jpeg:https://compagnielamarelle.ch/wp-content/uploads/2025/04/Flyer-Alsace-suisse-scaled.jpg
END:VEVENT
BEGIN:VEVENT
DTSTART;TZID=Europe/Zurich:20250514T200000
DTEND;TZID=Europe/Zurich:20250514T200000
DTSTAMP:20260421T184451
CREATED:20250410T103015Z
LAST-MODIFIED:20250410T103419Z
UID:29923-1747252800-1747252800@compagnielamarelle.ch
SUMMARY:SELESTAT - Passé minuit\, Dr Schweitzer
DESCRIPTION:
URL:https://compagnielamarelle.ch/event/passe-minuit-dr-schweitzer-2/
LOCATION:Eglise protestante de Sélestat\, Place du marché aux pots\, Sélestat\, France
ATTACH;FMTTYPE=image/jpeg:https://compagnielamarelle.ch/wp-content/uploads/2025/04/Flyer-Alsace-suisse-scaled.jpg
END:VEVENT
BEGIN:VEVENT
DTSTART;TZID=Europe/Zurich:20250515T200000
DTEND;TZID=Europe/Zurich:20250515T200000
DTSTAMP:20260421T184452
CREATED:20250410T103152Z
LAST-MODIFIED:20250410T120145Z
UID:29926-1747339200-1747339200@compagnielamarelle.ch
SUMMARY:WASSELONNE - Passé minuit\, Dr Schweitzer
DESCRIPTION:
URL:https://compagnielamarelle.ch/event/passe-minuit-dr-schweitzer-3/
LOCATION:Espace St-Laurent\, Wasselonne\, 1\, rue de Cosswiller\, Wasselonne\, France
ATTACH;FMTTYPE=image/jpeg:https://compagnielamarelle.ch/wp-content/uploads/2025/04/Flyer-Alsace-suisse-scaled.jpg
END:VEVENT
BEGIN:VEVENT
DTSTART;TZID=Europe/Zurich:20250516T200000
DTEND;TZID=Europe/Zurich:20250516T200000
DTSTAMP:20260421T184452
CREATED:20250410T120514Z
LAST-MODIFIED:20250410T120514Z
UID:29933-1747425600-1747425600@compagnielamarelle.ch
SUMMARY:RIEDISHEIM - Passé minuit\, Dr Schweitzer
DESCRIPTION:
URL:https://compagnielamarelle.ch/event/riedisheim-passe-minuit-dr-schweitzer/
LOCATION:Temple protestant de riedisheim\, 12 rue de la Marne\, Riedisheim\, France
ATTACH;FMTTYPE=image/jpeg:https://compagnielamarelle.ch/wp-content/uploads/2025/04/Flyer-Alsace-suisse-scaled.jpg
END:VEVENT
BEGIN:VEVENT
DTSTART;TZID=Europe/Zurich:20250517T200000
DTEND;TZID=Europe/Zurich:20250517T213000
DTSTAMP:20260421T184452
CREATED:20250410T120649Z
LAST-MODIFIED:20250410T120649Z
UID:29936-1747512000-1747517400@compagnielamarelle.ch
SUMMARY:CERNAY - Passé minuit\, Dr Schweitzer
DESCRIPTION:
URL:https://compagnielamarelle.ch/event/cernay-passe-minuit-dr-schweitzer/
LOCATION:Eglise du St-Esprit\, Rue Jean-Paul Carrère\, Cernay\, France
ATTACH;FMTTYPE=image/jpeg:https://compagnielamarelle.ch/wp-content/uploads/2025/04/Flyer-Alsace-suisse-scaled.jpg
END:VEVENT
BEGIN:VEVENT
DTSTART;TZID=Europe/Zurich:20250518T170000
DTEND;TZID=Europe/Zurich:20250518T183000
DTSTAMP:20260421T184452
CREATED:20250410T120911Z
LAST-MODIFIED:20250410T120911Z
UID:29939-1747587600-1747593000@compagnielamarelle.ch
SUMMARY:HAGUENAU - Passé minuit\, Dr Schweitzer
DESCRIPTION:
URL:https://compagnielamarelle.ch/event/haguenau-passe-minuit-dr-schweitzer/
LOCATION:Eglise protestante d’Haguenau\, Rue du Maréchal Foch\, Haguenau\, France
ATTACH;FMTTYPE=image/jpeg:https://compagnielamarelle.ch/wp-content/uploads/2025/04/Flyer-Alsace-suisse-scaled.jpg
END:VEVENT
BEGIN:VEVENT
DTSTART;TZID=Europe/Zurich:20250520T200000
DTEND;TZID=Europe/Zurich:20250520T213000
DTSTAMP:20260421T184452
CREATED:20250410T121112Z
LAST-MODIFIED:20250410T121112Z
UID:29943-1747771200-1747776600@compagnielamarelle.ch
SUMMARY:SCHILTIGHEIM - Passé minuit\, Dr Schweitzer
DESCRIPTION:
URL:https://compagnielamarelle.ch/event/schiltigheim-passe-minuit-dr-schweitzer/
LOCATION:Eglise de la Trinité\, 68 rue du Général De Gaulle\, Schiltigheim\, France
ATTACH;FMTTYPE=image/jpeg:https://compagnielamarelle.ch/wp-content/uploads/2025/04/Flyer-Alsace-suisse-scaled.jpg
END:VEVENT
BEGIN:VEVENT
DTSTART;TZID=Europe/Zurich:20250521T200000
DTEND;TZID=Europe/Zurich:20250521T213000
DTSTAMP:20260421T184452
CREATED:20250410T122055Z
LAST-MODIFIED:20250410T122055Z
UID:29946-1747857600-1747863000@compagnielamarelle.ch
SUMMARY:GRAFFENSTADEN - Passé minuit\, Dr Schweitzer
DESCRIPTION:
URL:https://compagnielamarelle.ch/event/graffenstaden-passe-minuit-dr-schweitzer/
LOCATION:Foyer protestant\, 1A\, Sous les platanes\, Graffenstaden\, France
ATTACH;FMTTYPE=image/jpeg:https://compagnielamarelle.ch/wp-content/uploads/2025/04/Flyer-Alsace-suisse-scaled.jpg
END:VEVENT
BEGIN:VEVENT
DTSTART;TZID=Europe/Zurich:20250522T200000
DTEND;TZID=Europe/Zurich:20250522T213000
DTSTAMP:20260421T184452
CREATED:20250410T123750Z
LAST-MODIFIED:20250410T123750Z
UID:29949-1747944000-1747949400@compagnielamarelle.ch
SUMMARY:BARR - Passé minuit\, Dr Schweitzer
DESCRIPTION:
URL:https://compagnielamarelle.ch/event/barr-passe-minuit-dr-schweitzer/
LOCATION:Foyer protestant de Barr\, 33 avenue des Vosges\, Barr\, France
ATTACH;FMTTYPE=image/jpeg:https://compagnielamarelle.ch/wp-content/uploads/2025/04/Flyer-Alsace-suisse-scaled.jpg
END:VEVENT
BEGIN:VEVENT
DTSTART;TZID=Europe/Zurich:20250523T200000
DTEND;TZID=Europe/Zurich:20250523T213000
DTSTAMP:20260421T184452
CREATED:20250410T123907Z
LAST-MODIFIED:20250410T130115Z
UID:29952-1748030400-1748035800@compagnielamarelle.ch
SUMMARY:MUNSTER - Passé minuit\, Dr Schweitzer
DESCRIPTION:
URL:https://compagnielamarelle.ch/event/munster-passe-minuit-dr-schweitzer/
LOCATION:Eglise protestante de Munster\, Place du marché\, Munster\, France
ATTACH;FMTTYPE=image/jpeg:https://compagnielamarelle.ch/wp-content/uploads/2025/04/Flyer-Alsace-suisse-scaled.jpg
END:VEVENT
BEGIN:VEVENT
DTSTART;TZID=Europe/Zurich:20250524T201500
DTEND;TZID=Europe/Zurich:20250524T213000
DTSTAMP:20260421T184452
CREATED:20250410T130242Z
LAST-MODIFIED:20250410T130242Z
UID:29955-1748117700-1748122200@compagnielamarelle.ch
SUMMARY:STRASBOURG - Passé minuit\, Dr Schweitzer
DESCRIPTION:
URL:https://compagnielamarelle.ch/event/strasbourg-passe-minuit-dr-schweitzer/
LOCATION:Eglise St-Matthieu (Strasbourg)\, 97 Boulevard d'Anvers\, Strasbourg\, France
ATTACH;FMTTYPE=image/jpeg:https://compagnielamarelle.ch/wp-content/uploads/2025/04/Flyer-Alsace-suisse-scaled.jpg
END:VEVENT
BEGIN:VEVENT
DTSTART;TZID=Europe/Zurich:20250525T170000
DTEND;TZID=Europe/Zurich:20250525T183000
DTSTAMP:20260421T184452
CREATED:20250410T131257Z
LAST-MODIFIED:20250410T131257Z
UID:29970-1748192400-1748197800@compagnielamarelle.ch
SUMMARY:LANGENSOULTZBACH - Passé minuit\, Dr Schweitzer
DESCRIPTION:
URL:https://compagnielamarelle.ch/event/langensoultzbach-passe-minuit-dr-schweitzer-2/
LOCATION:Salle socio-Culturelle de Langensoultzbach\, 1 rue de Nehwiller\, Langensoultzbach\, France
ATTACH;FMTTYPE=image/jpeg:https://compagnielamarelle.ch/wp-content/uploads/2025/04/Flyer-Alsace-suisse-scaled.jpg
END:VEVENT
BEGIN:VEVENT
DTSTART;TZID=Europe/Zurich:20250527T200000
DTEND;TZID=Europe/Zurich:20250527T213000
DTSTAMP:20260421T184452
CREATED:20250410T130416Z
LAST-MODIFIED:20250410T130708Z
UID:29958-1748376000-1748381400@compagnielamarelle.ch
SUMMARY:HUNSPACH - Passé minuit\, Dr Schweitzer
DESCRIPTION:
URL:https://compagnielamarelle.ch/event/langensoultzbach-passe-minuit-dr-schweitzer/
LOCATION:Salle des fetes de Hunspach\, 13 rue de Hoffen\, Hunspach\, France
ATTACH;FMTTYPE=image/jpeg:https://compagnielamarelle.ch/wp-content/uploads/2025/04/Flyer-Alsace-suisse-scaled.jpg
END:VEVENT
BEGIN:VEVENT
DTSTART;TZID=Europe/Zurich:20250531T200000
DTEND;TZID=Europe/Zurich:20250531T213000
DTSTAMP:20260421T184452
CREATED:20250410T130837Z
LAST-MODIFIED:20250410T130837Z
UID:29964-1748721600-1748727000@compagnielamarelle.ch
SUMMARY:GUMBRECHTSHOFFEN - Passé minuit\, Dr Schweitzer
DESCRIPTION:
URL:https://compagnielamarelle.ch/event/gumbrechtshoffen-passe-minuit-dr-schweitzer/
LOCATION:Salle Polyvalente de Gumbrechtshofen\, France
ATTACH;FMTTYPE=image/jpeg:https://compagnielamarelle.ch/wp-content/uploads/2025/04/Flyer-Alsace-suisse-scaled.jpg
END:VEVENT
END:VCALENDAR