BEGIN:VCALENDAR
VERSION:2.0
PRODID:-//Compagnie La Marelle Lausanne/Suisse - ECPv6.15.11//NONSGML v1.0//EN
CALSCALE:GREGORIAN
METHOD:PUBLISH
X-ORIGINAL-URL:https://compagnielamarelle.ch
X-WR-CALDESC:Évènements pour Compagnie La Marelle Lausanne/Suisse
REFRESH-INTERVAL;VALUE=DURATION:PT1H
X-Robots-Tag:noindex
X-PUBLISHED-TTL:PT1H
BEGIN:VTIMEZONE
TZID:Europe/Zurich
BEGIN:DAYLIGHT
TZOFFSETFROM:+0100
TZOFFSETTO:+0200
TZNAME:CEST
DTSTART:20240331T010000
END:DAYLIGHT
BEGIN:STANDARD
TZOFFSETFROM:+0200
TZOFFSETTO:+0100
TZNAME:CET
DTSTART:20241027T010000
END:STANDARD
BEGIN:DAYLIGHT
TZOFFSETFROM:+0100
TZOFFSETTO:+0200
TZNAME:CEST
DTSTART:20250330T010000
END:DAYLIGHT
BEGIN:STANDARD
TZOFFSETFROM:+0200
TZOFFSETTO:+0100
TZNAME:CET
DTSTART:20251026T010000
END:STANDARD
BEGIN:DAYLIGHT
TZOFFSETFROM:+0100
TZOFFSETTO:+0200
TZNAME:CEST
DTSTART:20260329T010000
END:DAYLIGHT
BEGIN:STANDARD
TZOFFSETFROM:+0200
TZOFFSETTO:+0100
TZNAME:CET
DTSTART:20261025T010000
END:STANDARD
END:VTIMEZONE
BEGIN:VEVENT
DTSTART;TZID=Europe/Zurich:20250601T170000
DTEND;TZID=Europe/Zurich:20250601T183000
DTSTAMP:20260421T095647
CREATED:20250410T131042Z
LAST-MODIFIED:20250410T131042Z
UID:29967-1748797200-1748802600@compagnielamarelle.ch
SUMMARY:ALTKIRCH - Passé minuit\, Dr Schweitzer
DESCRIPTION:
URL:https://compagnielamarelle.ch/event/altkirch-passe-minuit-dr-schweitzer/
LOCATION:Eglise Evangélique Ménonite d’Altkirch\, 1 rue du Birkenhof\, Altkirch\, France
ATTACH;FMTTYPE=image/jpeg:https://compagnielamarelle.ch/wp-content/uploads/2025/04/Flyer-Alsace-suisse-scaled.jpg
END:VEVENT
END:VCALENDAR