BEGIN:VCALENDAR
VERSION:2.0
PRODID:-//Compagnie La Marelle Lausanne/Suisse - ECPv6.15.11//NONSGML v1.0//EN
CALSCALE:GREGORIAN
METHOD:PUBLISH
X-ORIGINAL-URL:https://compagnielamarelle.ch
X-WR-CALDESC:Évènements pour Compagnie La Marelle Lausanne/Suisse
REFRESH-INTERVAL;VALUE=DURATION:PT1H
X-Robots-Tag:noindex
X-PUBLISHED-TTL:PT1H
BEGIN:VTIMEZONE
TZID:Europe/Zurich
BEGIN:DAYLIGHT
TZOFFSETFROM:+0100
TZOFFSETTO:+0200
TZNAME:CEST
DTSTART:20240331T010000
END:DAYLIGHT
BEGIN:STANDARD
TZOFFSETFROM:+0200
TZOFFSETTO:+0100
TZNAME:CET
DTSTART:20241027T010000
END:STANDARD
BEGIN:DAYLIGHT
TZOFFSETFROM:+0100
TZOFFSETTO:+0200
TZNAME:CEST
DTSTART:20250330T010000
END:DAYLIGHT
BEGIN:STANDARD
TZOFFSETFROM:+0200
TZOFFSETTO:+0100
TZNAME:CET
DTSTART:20251026T010000
END:STANDARD
BEGIN:DAYLIGHT
TZOFFSETFROM:+0100
TZOFFSETTO:+0200
TZNAME:CEST
DTSTART:20260329T010000
END:DAYLIGHT
BEGIN:STANDARD
TZOFFSETFROM:+0200
TZOFFSETTO:+0100
TZNAME:CET
DTSTART:20261025T010000
END:STANDARD
END:VTIMEZONE
BEGIN:VEVENT
DTSTART;TZID=Europe/Zurich:20251005T170000
DTEND;TZID=Europe/Zurich:20251005T181500
DTSTAMP:20260420T133412
CREATED:20251012T084352Z
LAST-MODIFIED:20251012T085000Z
UID:30008-1759683600-1759688100@compagnielamarelle.ch
SUMMARY:Cheseaux-sur-Lausanne - Théodore Monod
DESCRIPTION:  \n\nThéodore Monod traverse le XXème siècle comme il a traversé le désert : avec passion\, pugnacité et abnégation. \nSes découvertes et ses recherches ont fait de sa vie un témoignage pour les générations futures. \nIl plaidait pour la conscience de la totalité du monde et du cosmos et le respect du vivant dans son ensemble. \nUn spectacle sur sa personne ? Que nenni ! Un spectacle où Théodore nous embarque à la rencontre du vivant ! \n\n 
URL:https://compagnielamarelle.ch/event/cheseaux-sur-lausanne-theodore-monod/
LOCATION:Bateau-Lune\, Chemin de la Chapelle 10\, Cheseaux-sur-Lausanne\, Vaud\, 1033\, Switzerland
ATTACH;FMTTYPE=image/jpeg:https://compagnielamarelle.ch/wp-content/uploads/2025/08/Flyer_monod_A5_marelle_2025.jpg
END:VEVENT
BEGIN:VEVENT
DTSTART;TZID=Europe/Zurich:20251008T200000
DTEND;TZID=Europe/Zurich:20251008T211500
DTSTAMP:20260420T133412
CREATED:20251012T085158Z
LAST-MODIFIED:20251012T085158Z
UID:30015-1759953600-1759958100@compagnielamarelle.ch
SUMMARY:Cheseaux-sur-Lausanne - Théodore Monod
DESCRIPTION:  \n\nThéodore Monod traverse le XXème siècle comme il a traversé le désert : avec passion\, pugnacité et abnégation. \nSes découvertes et ses recherches ont fait de sa vie un témoignage pour les générations futures. \nIl plaidait pour la conscience de la totalité du monde et du cosmos et le respect du vivant dans son ensemble. \nUn spectacle sur sa personne ? Que nenni ! Un spectacle où Théodore nous embarque à la rencontre du vivant ! \n\n 
URL:https://compagnielamarelle.ch/event/cheseaux-sur-lausanne-theodore-monod-2/
LOCATION:Bateau-Lune\, Chemin de la Chapelle 10\, Cheseaux-sur-Lausanne\, Vaud\, 1033\, Switzerland
ATTACH;FMTTYPE=image/jpeg:https://compagnielamarelle.ch/wp-content/uploads/2025/08/Flyer_monod_A5_marelle_2025.jpg
END:VEVENT
BEGIN:VEVENT
DTSTART;TZID=Europe/Zurich:20251009T200000
DTEND;TZID=Europe/Zurich:20251009T211500
DTSTAMP:20260420T133412
CREATED:20251012T085228Z
LAST-MODIFIED:20251012T085228Z
UID:30017-1760040000-1760044500@compagnielamarelle.ch
SUMMARY:Cheseaux-sur-Lausanne - Théodore Monod
DESCRIPTION:  \n\nThéodore Monod traverse le XXème siècle comme il a traversé le désert : avec passion\, pugnacité et abnégation. \nSes découvertes et ses recherches ont fait de sa vie un témoignage pour les générations futures. \nIl plaidait pour la conscience de la totalité du monde et du cosmos et le respect du vivant dans son ensemble. \nUn spectacle sur sa personne ? Que nenni ! Un spectacle où Théodore nous embarque à la rencontre du vivant ! \n\n 
URL:https://compagnielamarelle.ch/event/cheseaux-sur-lausanne-theodore-monod-3/
LOCATION:Bateau-Lune\, Chemin de la Chapelle 10\, Cheseaux-sur-Lausanne\, Vaud\, 1033\, Switzerland
ATTACH;FMTTYPE=image/jpeg:https://compagnielamarelle.ch/wp-content/uploads/2025/08/Flyer_monod_A5_marelle_2025.jpg
END:VEVENT
BEGIN:VEVENT
DTSTART;TZID=Europe/Zurich:20251010T200000
DTEND;TZID=Europe/Zurich:20251010T211500
DTSTAMP:20260420T133412
CREATED:20251012T085256Z
LAST-MODIFIED:20251012T085256Z
UID:30019-1760126400-1760130900@compagnielamarelle.ch
SUMMARY:Cheseaux-sur-Lausanne - Théodore Monod
DESCRIPTION:  \n\nThéodore Monod traverse le XXème siècle comme il a traversé le désert : avec passion\, pugnacité et abnégation. \nSes découvertes et ses recherches ont fait de sa vie un témoignage pour les générations futures. \nIl plaidait pour la conscience de la totalité du monde et du cosmos et le respect du vivant dans son ensemble. \nUn spectacle sur sa personne ? Que nenni ! Un spectacle où Théodore nous embarque à la rencontre du vivant ! \n\n 
URL:https://compagnielamarelle.ch/event/cheseaux-sur-lausanne-theodore-monod-4/
LOCATION:Bateau-Lune\, Chemin de la Chapelle 10\, Cheseaux-sur-Lausanne\, Vaud\, 1033\, Switzerland
ATTACH;FMTTYPE=image/jpeg:https://compagnielamarelle.ch/wp-content/uploads/2025/08/Flyer_monod_A5_marelle_2025.jpg
END:VEVENT
BEGIN:VEVENT
DTSTART;TZID=Europe/Zurich:20251012T170000
DTEND;TZID=Europe/Zurich:20251012T181500
DTSTAMP:20260420T133412
CREATED:20251012T085338Z
LAST-MODIFIED:20251012T085338Z
UID:30021-1760288400-1760292900@compagnielamarelle.ch
SUMMARY:Cheseaux-sur-Lausanne - Théodore Monod
DESCRIPTION:  \n\nThéodore Monod traverse le XXème siècle comme il a traversé le désert : avec passion\, pugnacité et abnégation. \nSes découvertes et ses recherches ont fait de sa vie un témoignage pour les générations futures. \nIl plaidait pour la conscience de la totalité du monde et du cosmos et le respect du vivant dans son ensemble. \nUn spectacle sur sa personne ? Que nenni ! Un spectacle où Théodore nous embarque à la rencontre du vivant ! \n\n 
URL:https://compagnielamarelle.ch/event/cheseaux-sur-lausanne-theodore-monod-5/
LOCATION:Bateau-Lune\, Chemin de la Chapelle 10\, Cheseaux-sur-Lausanne\, Vaud\, 1033\, Switzerland
ATTACH;FMTTYPE=image/jpeg:https://compagnielamarelle.ch/wp-content/uploads/2025/08/Flyer_monod_A5_marelle_2025.jpg
END:VEVENT
BEGIN:VEVENT
DTSTART;TZID=Europe/Zurich:20251016T200000
DTEND;TZID=Europe/Zurich:20251016T211500
DTSTAMP:20260420T133412
CREATED:20251012T085632Z
LAST-MODIFIED:20251012T090052Z
UID:30023-1760644800-1760649300@compagnielamarelle.ch
SUMMARY:Plan-Les-Ouates- Théodore Monod
DESCRIPTION:  \n\nThéodore Monod traverse le XXème siècle comme il a traversé le désert : avec passion\, pugnacité et abnégation. \nSes découvertes et ses recherches ont fait de sa vie un témoignage pour les générations futures. \nIl plaidait pour la conscience de la totalité du monde et du cosmos et le respect du vivant dans son ensemble. \nUn spectacle sur sa personne ? Que nenni ! Un spectacle où Théodore nous embarque à la rencontre du vivant ! \n\n 
URL:https://compagnielamarelle.ch/event/plan-les-ouates-theodore-monod/
LOCATION:Temploz art\, Route de Saint-Julien\, Plan-les-Ouates\, 1228\, Switzerland
ATTACH;FMTTYPE=image/jpeg:https://compagnielamarelle.ch/wp-content/uploads/2025/08/Flyer_monod_A5_marelle_2025.jpg
END:VEVENT
BEGIN:VEVENT
DTSTART;TZID=Europe/Zurich:20251018T200000
DTEND;TZID=Europe/Zurich:20251018T211500
DTSTAMP:20260420T133412
CREATED:20251012T085853Z
LAST-MODIFIED:20251012T090031Z
UID:30025-1760817600-1760822100@compagnielamarelle.ch
SUMMARY:Tramelan - Théodore Monod
DESCRIPTION:  \n\nThéodore Monod traverse le XXème siècle comme il a traversé le désert : avec passion\, pugnacité et abnégation. \nSes découvertes et ses recherches ont fait de sa vie un témoignage pour les générations futures. \nIl plaidait pour la conscience de la totalité du monde et du cosmos et le respect du vivant dans son ensemble. \nUn spectacle sur sa personne ? Que nenni ! Un spectacle où Théodore nous embarque à la rencontre du vivant ! \n\n 
URL:https://compagnielamarelle.ch/event/tramelan-theodore-monod/
LOCATION:CIP\, Chemin des Lovières 13\, Tramelan\, 2720\, Switzerland
ATTACH;FMTTYPE=image/jpeg:https://compagnielamarelle.ch/wp-content/uploads/2025/08/Flyer_monod_A5_marelle_2025.jpg
END:VEVENT
BEGIN:VEVENT
DTSTART;TZID=Europe/Zurich:20251023T200000
DTEND;TZID=Europe/Zurich:20251023T211500
DTSTAMP:20260420T133412
CREATED:20251012T085959Z
LAST-MODIFIED:20251012T085959Z
UID:30027-1761249600-1761254100@compagnielamarelle.ch
SUMMARY:Peseux - Théodore Monod
DESCRIPTION:  \n\nThéodore Monod traverse le XXème siècle comme il a traversé le désert : avec passion\, pugnacité et abnégation. \nSes découvertes et ses recherches ont fait de sa vie un témoignage pour les générations futures. \nIl plaidait pour la conscience de la totalité du monde et du cosmos et le respect du vivant dans son ensemble. \nUn spectacle sur sa personne ? Que nenni ! Un spectacle où Théodore nous embarque à la rencontre du vivant ! \n\n 
URL:https://compagnielamarelle.ch/event/peseux-theodore-monod/
LOCATION:Temple de Peseux\, Rue du temple\, Peseux\, 2034\, Switzerland
ATTACH;FMTTYPE=image/jpeg:https://compagnielamarelle.ch/wp-content/uploads/2025/08/Flyer_monod_A5_marelle_2025.jpg
END:VEVENT
BEGIN:VEVENT
DTSTART;TZID=Europe/Zurich:20251024T200000
DTEND;TZID=Europe/Zurich:20251024T211500
DTSTAMP:20260420T133412
CREATED:20251012T090216Z
LAST-MODIFIED:20251012T090532Z
UID:30029-1761336000-1761340500@compagnielamarelle.ch
SUMMARY:Vallorbe - Théodore Monod
DESCRIPTION:  \n\nThéodore Monod traverse le XXème siècle comme il a traversé le désert : avec passion\, pugnacité et abnégation. \nSes découvertes et ses recherches ont fait de sa vie un témoignage pour les générations futures. \nIl plaidait pour la conscience de la totalité du monde et du cosmos et le respect du vivant dans son ensemble. \nUn spectacle sur sa personne ? Que nenni ! Un spectacle où Théodore nous embarque à la rencontre du vivant ! \n\n 
URL:https://compagnielamarelle.ch/event/vallorbe-theodore-monod/
LOCATION:Temple de Vallorbe\, Rue ancienne poste 54\, Vallorbe\, Vaud\, 1337\, Switzerland
ATTACH;FMTTYPE=image/jpeg:https://compagnielamarelle.ch/wp-content/uploads/2025/08/Flyer_monod_A5_marelle_2025.jpg
END:VEVENT
BEGIN:VEVENT
DTSTART;TZID=Europe/Zurich:20251026T170000
DTEND;TZID=Europe/Zurich:20251026T181500
DTSTAMP:20260420T133412
CREATED:20251012T090327Z
LAST-MODIFIED:20251021T130413Z
UID:30031-1761498000-1761502500@compagnielamarelle.ch
SUMMARY:Yverdon - Théodore Monod
DESCRIPTION:  \n\nThéodore Monod traverse le XXème siècle comme il a traversé le désert : avec passion\, pugnacité et abnégation. \nSes découvertes et ses recherches ont fait de sa vie un témoignage pour les générations futures. \nIl plaidait pour la conscience de la totalité du monde et du cosmos et le respect du vivant dans son ensemble. \nUn spectacle sur sa personne ? Que nenni ! Un spectacle où Théodore nous embarque à la rencontre du vivant ! \n\n 
URL:https://compagnielamarelle.ch/event/yverdon-theodore-monod/
LOCATION:Temple Yverdon les bains\, Place Pestalozzi\, Yverdon-Les-Bains\, 1401\, Switzerland
ATTACH;FMTTYPE=image/jpeg:https://compagnielamarelle.ch/wp-content/uploads/2025/08/Flyer_monod_A5_marelle_2025.jpg
END:VEVENT
BEGIN:VEVENT
DTSTART;TZID=Europe/Zurich:20251028T190000
DTEND;TZID=Europe/Zurich:20251028T201500
DTSTAMP:20260420T133412
CREATED:20251012T091015Z
LAST-MODIFIED:20251012T091015Z
UID:30034-1761678000-1761682500@compagnielamarelle.ch
SUMMARY:Bienne - Théodore Monod
DESCRIPTION:  \n\nThéodore Monod traverse le XXème siècle comme il a traversé le désert : avec passion\, pugnacité et abnégation. \nSes découvertes et ses recherches ont fait de sa vie un témoignage pour les générations futures. \nIl plaidait pour la conscience de la totalité du monde et du cosmos et le respect du vivant dans son ensemble. \nUn spectacle sur sa personne ? Que nenni ! Un spectacle où Théodore nous embarque à la rencontre du vivant ! \n\n 
URL:https://compagnielamarelle.ch/event/bienne-theodore-monod/
LOCATION:Maison St-Paul\, Crêt-des-Fleurs 24\, Bienne\, Berne\, 2503\, Switzerland
ATTACH;FMTTYPE=image/jpeg:https://compagnielamarelle.ch/wp-content/uploads/2025/08/Flyer_monod_A5_marelle_2025.jpg
END:VEVENT
BEGIN:VEVENT
DTSTART;TZID=Europe/Zurich:20251029T200000
DTEND;TZID=Europe/Zurich:20251029T211500
DTSTAMP:20260420T133412
CREATED:20251012T091223Z
LAST-MODIFIED:20251012T091223Z
UID:30038-1761768000-1761772500@compagnielamarelle.ch
SUMMARY:Môtier-Vully - Théodore Monod
DESCRIPTION:  \n\nThéodore Monod traverse le XXème siècle comme il a traversé le désert : avec passion\, pugnacité et abnégation. \nSes découvertes et ses recherches ont fait de sa vie un témoignage pour les générations futures. \nIl plaidait pour la conscience de la totalité du monde et du cosmos et le respect du vivant dans son ensemble. \nUn spectacle sur sa personne ? Que nenni ! Un spectacle où Théodore nous embarque à la rencontre du vivant ! \n\n 
URL:https://compagnielamarelle.ch/event/motier-vully-theodore-monod/
LOCATION:Maison de paroisse Motier-Vully\, Route du lac 30\, Môtier-Vully\, 1787\, Switzerland
ATTACH;FMTTYPE=image/jpeg:https://compagnielamarelle.ch/wp-content/uploads/2025/08/Flyer_monod_A5_marelle_2025.jpg
END:VEVENT
BEGIN:VEVENT
DTSTART;TZID=Europe/Zurich:20251031T200000
DTEND;TZID=Europe/Zurich:20251031T211500
DTSTAMP:20260420T133412
CREATED:20251012T091435Z
LAST-MODIFIED:20251012T091435Z
UID:30040-1761940800-1761945300@compagnielamarelle.ch
SUMMARY:Préverenges - Théodore Monod
DESCRIPTION:  \n\nThéodore Monod traverse le XXème siècle comme il a traversé le désert : avec passion\, pugnacité et abnégation. \nSes découvertes et ses recherches ont fait de sa vie un témoignage pour les générations futures. \nIl plaidait pour la conscience de la totalité du monde et du cosmos et le respect du vivant dans son ensemble. \nUn spectacle sur sa personne ? Que nenni ! Un spectacle où Théodore nous embarque à la rencontre du vivant ! \n\n 
URL:https://compagnielamarelle.ch/event/preverenges-theodore-monod/
LOCATION:maison de commune Préverenges\, Route d'Yverdon 9\, Préverenges\, Vaud\, 1028\, Switzerland
ATTACH;FMTTYPE=image/jpeg:https://compagnielamarelle.ch/wp-content/uploads/2025/08/Flyer_monod_A5_marelle_2025.jpg
END:VEVENT
END:VCALENDAR