BEGIN:VCALENDAR
VERSION:2.0
PRODID:-//Compagnie La Marelle Lausanne/Suisse - ECPv6.15.11//NONSGML v1.0//EN
CALSCALE:GREGORIAN
METHOD:PUBLISH
X-ORIGINAL-URL:https://compagnielamarelle.ch
X-WR-CALDESC:Évènements pour Compagnie La Marelle Lausanne/Suisse
REFRESH-INTERVAL;VALUE=DURATION:PT1H
X-Robots-Tag:noindex
X-PUBLISHED-TTL:PT1H
BEGIN:VTIMEZONE
TZID:Europe/Zurich
BEGIN:DAYLIGHT
TZOFFSETFROM:+0100
TZOFFSETTO:+0200
TZNAME:CEST
DTSTART:20240331T010000
END:DAYLIGHT
BEGIN:STANDARD
TZOFFSETFROM:+0200
TZOFFSETTO:+0100
TZNAME:CET
DTSTART:20241027T010000
END:STANDARD
BEGIN:DAYLIGHT
TZOFFSETFROM:+0100
TZOFFSETTO:+0200
TZNAME:CEST
DTSTART:20250330T010000
END:DAYLIGHT
BEGIN:STANDARD
TZOFFSETFROM:+0200
TZOFFSETTO:+0100
TZNAME:CET
DTSTART:20251026T010000
END:STANDARD
BEGIN:DAYLIGHT
TZOFFSETFROM:+0100
TZOFFSETTO:+0200
TZNAME:CEST
DTSTART:20260329T010000
END:DAYLIGHT
BEGIN:STANDARD
TZOFFSETFROM:+0200
TZOFFSETTO:+0100
TZNAME:CET
DTSTART:20261025T010000
END:STANDARD
END:VTIMEZONE
BEGIN:VEVENT
DTSTART;TZID=Europe/Zurich:20251101T200000
DTEND;TZID=Europe/Zurich:20251101T211500
DTSTAMP:20260420T085152
CREATED:20251012T092042Z
LAST-MODIFIED:20251012T092042Z
UID:30043-1762027200-1762031700@compagnielamarelle.ch
SUMMARY:Bernex - Théodore Monod
DESCRIPTION:  \n\nThéodore Monod traverse le XXème siècle comme il a traversé le désert : avec passion\, pugnacité et abnégation. \nSes découvertes et ses recherches ont fait de sa vie un témoignage pour les générations futures. \nIl plaidait pour la conscience de la totalité du monde et du cosmos et le respect du vivant dans son ensemble. \nUn spectacle sur sa personne ? Que nenni ! Un spectacle où Théodore nous embarque à la rencontre du vivant ! \n\n 
URL:https://compagnielamarelle.ch/event/bernex-theodore-monod/
LOCATION:Centre paroissial Bernex-Confignon\, Chemin Sur-Beauvent 20\, Bernex\, Genève\, 1233\, Switzerland
ATTACH;FMTTYPE=image/jpeg:https://compagnielamarelle.ch/wp-content/uploads/2025/08/Flyer_monod_A5_marelle_2025.jpg
END:VEVENT
BEGIN:VEVENT
DTSTART;TZID=Europe/Zurich:20251102T170000
DTEND;TZID=Europe/Zurich:20251102T181500
DTSTAMP:20260420T085152
CREATED:20251012T092145Z
LAST-MODIFIED:20251012T092145Z
UID:30046-1762102800-1762107300@compagnielamarelle.ch
SUMMARY:Gland - Théodore Monod
DESCRIPTION:  \n\nThéodore Monod traverse le XXème siècle comme il a traversé le désert : avec passion\, pugnacité et abnégation. \nSes découvertes et ses recherches ont fait de sa vie un témoignage pour les générations futures. \nIl plaidait pour la conscience de la totalité du monde et du cosmos et le respect du vivant dans son ensemble. \nUn spectacle sur sa personne ? Que nenni ! Un spectacle où Théodore nous embarque à la rencontre du vivant ! \n\n 
URL:https://compagnielamarelle.ch/event/gland-theodore-monod/
LOCATION:Salle communale de gland\, grand-rue38\, Gland\, 1196\, Switzerland
ATTACH;FMTTYPE=image/jpeg:https://compagnielamarelle.ch/wp-content/uploads/2025/08/Flyer_monod_A5_marelle_2025.jpg
END:VEVENT
BEGIN:VEVENT
DTSTART;TZID=Europe/Zurich:20251105T200000
DTEND;TZID=Europe/Zurich:20251105T211500
DTSTAMP:20260420T085152
CREATED:20251012T092243Z
LAST-MODIFIED:20251012T092824Z
UID:30048-1762372800-1762377300@compagnielamarelle.ch
SUMMARY:Mézières- Théodore Monod
DESCRIPTION:  \n\nThéodore Monod traverse le XXème siècle comme il a traversé le désert : avec passion\, pugnacité et abnégation. \nSes découvertes et ses recherches ont fait de sa vie un témoignage pour les générations futures. \nIl plaidait pour la conscience de la totalité du monde et du cosmos et le respect du vivant dans son ensemble. \nUn spectacle sur sa personne ? Que nenni ! Un spectacle où Théodore nous embarque à la rencontre du vivant ! \n\n 
URL:https://compagnielamarelle.ch/event/mezieres-theodore-monod/
LOCATION:Grande salle de Mézières\, Grand rue 2\, Mézières\, 1083\, Switzerland
ATTACH;FMTTYPE=image/jpeg:https://compagnielamarelle.ch/wp-content/uploads/2025/08/Flyer_monod_A5_marelle_2025.jpg
END:VEVENT
BEGIN:VEVENT
DTSTART;TZID=Europe/Zurich:20251106T200000
DTEND;TZID=Europe/Zurich:20251106T211500
DTSTAMP:20260420T085152
CREATED:20251012T092331Z
LAST-MODIFIED:20251012T092806Z
UID:30050-1762459200-1762463700@compagnielamarelle.ch
SUMMARY:Sierre - Théodore Monod
DESCRIPTION:  \n\nThéodore Monod traverse le XXème siècle comme il a traversé le désert : avec passion\, pugnacité et abnégation. \nSes découvertes et ses recherches ont fait de sa vie un témoignage pour les générations futures. \nIl plaidait pour la conscience de la totalité du monde et du cosmos et le respect du vivant dans son ensemble. \nUn spectacle sur sa personne ? Que nenni ! Un spectacle où Théodore nous embarque à la rencontre du vivant ! \n\n 
URL:https://compagnielamarelle.ch/event/sierre-theodore-monod/
LOCATION:Salle de la Sacoche\, Avenue Max-Buber\, Sierre\, 3960\, Switzerland
ATTACH;FMTTYPE=image/jpeg:https://compagnielamarelle.ch/wp-content/uploads/2025/08/Flyer_monod_A5_marelle_2025.jpg
END:VEVENT
BEGIN:VEVENT
DTSTART;TZID=Europe/Zurich:20251107T200000
DTEND;TZID=Europe/Zurich:20251107T211500
DTSTAMP:20260420T085152
CREATED:20251012T092421Z
LAST-MODIFIED:20251012T092743Z
UID:30052-1762545600-1762550100@compagnielamarelle.ch
SUMMARY:Tavannes - Théodore Monod
DESCRIPTION:  \n\nThéodore Monod traverse le XXème siècle comme il a traversé le désert : avec passion\, pugnacité et abnégation. \nSes découvertes et ses recherches ont fait de sa vie un témoignage pour les générations futures. \nIl plaidait pour la conscience de la totalité du monde et du cosmos et le respect du vivant dans son ensemble. \nUn spectacle sur sa personne ? Que nenni ! Un spectacle où Théodore nous embarque à la rencontre du vivant ! \n\n 
URL:https://compagnielamarelle.ch/event/tavannes-theodore-monod/
LOCATION:Salle de paroisse catholique Tavannes\, Rue du Général Voirol 7\, Tavannes\, 2710\, Switzerland
ATTACH;FMTTYPE=image/jpeg:https://compagnielamarelle.ch/wp-content/uploads/2025/08/Flyer_monod_A5_marelle_2025.jpg
END:VEVENT
BEGIN:VEVENT
DTSTART;TZID=Europe/Zurich:20251108T200000
DTEND;TZID=Europe/Zurich:20251108T211500
DTSTAMP:20260420T085152
CREATED:20251012T092727Z
LAST-MODIFIED:20251012T092727Z
UID:30054-1762632000-1762636500@compagnielamarelle.ch
SUMMARY:Le Landeron - Théodore Monod
DESCRIPTION:  \n\nThéodore Monod traverse le XXème siècle comme il a traversé le désert : avec passion\, pugnacité et abnégation. \nSes découvertes et ses recherches ont fait de sa vie un témoignage pour les générations futures. \nIl plaidait pour la conscience de la totalité du monde et du cosmos et le respect du vivant dans son ensemble. \nUn spectacle sur sa personne ? Que nenni ! Un spectacle où Théodore nous embarque à la rencontre du vivant ! \n\n 
URL:https://compagnielamarelle.ch/event/le-landeron-theodore-monod/
LOCATION:Temple du Landeron\, Rue du Temple 2E\, Le Landeron\, Neuchatel\, 2525\, Switzerland
ATTACH;FMTTYPE=image/jpeg:https://compagnielamarelle.ch/wp-content/uploads/2025/08/Flyer_monod_A5_marelle_2025.jpg
END:VEVENT
BEGIN:VEVENT
DTSTART;TZID=Europe/Zurich:20251109T170000
DTEND;TZID=Europe/Zurich:20251109T181500
DTSTAMP:20260420T085152
CREATED:20251012T093033Z
LAST-MODIFIED:20251012T093033Z
UID:30058-1762707600-1762712100@compagnielamarelle.ch
SUMMARY:Berne - Théodore Monod
DESCRIPTION:  \n\nThéodore Monod traverse le XXème siècle comme il a traversé le désert : avec passion\, pugnacité et abnégation. \nSes découvertes et ses recherches ont fait de sa vie un témoignage pour les générations futures. \nIl plaidait pour la conscience de la totalité du monde et du cosmos et le respect du vivant dans son ensemble. \nUn spectacle sur sa personne ? Que nenni ! Un spectacle où Théodore nous embarque à la rencontre du vivant ! \n\n 
URL:https://compagnielamarelle.ch/event/berne-theodore-monod/
LOCATION:Eglise française de Berne\, Zeuhghausgasse 8\, Berne\, Berne\, 3011\, Switzerland
ATTACH;FMTTYPE=image/jpeg:https://compagnielamarelle.ch/wp-content/uploads/2025/08/Flyer_monod_A5_marelle_2025.jpg
END:VEVENT
BEGIN:VEVENT
DTSTART;TZID=Europe/Zurich:20251112T200000
DTEND;TZID=Europe/Zurich:20251112T211500
DTSTAMP:20260420T085152
CREATED:20251012T093144Z
LAST-MODIFIED:20251012T093144Z
UID:30061-1762977600-1762982100@compagnielamarelle.ch
SUMMARY:Bussigny - Théodore Monod
DESCRIPTION:  \n\nThéodore Monod traverse le XXème siècle comme il a traversé le désert : avec passion\, pugnacité et abnégation. \nSes découvertes et ses recherches ont fait de sa vie un témoignage pour les générations futures. \nIl plaidait pour la conscience de la totalité du monde et du cosmos et le respect du vivant dans son ensemble. \nUn spectacle sur sa personne ? Que nenni ! Un spectacle où Théodore nous embarque à la rencontre du vivant ! \n\n 
URL:https://compagnielamarelle.ch/event/bussigny-theodore-monod/
LOCATION:Grande salle de Bussigny\, Rue de Lausanne 1\, Bussigny\, 1030\, Switzerland
ATTACH;FMTTYPE=image/jpeg:https://compagnielamarelle.ch/wp-content/uploads/2025/08/Flyer_monod_A5_marelle_2025.jpg
END:VEVENT
BEGIN:VEVENT
DTSTART;TZID=Europe/Zurich:20251113T193000
DTEND;TZID=Europe/Zurich:20251113T204500
DTSTAMP:20260420T085152
CREATED:20251012T093421Z
LAST-MODIFIED:20251012T093459Z
UID:30063-1763062200-1763066700@compagnielamarelle.ch
SUMMARY:Lajoux - Théodore Monod
DESCRIPTION:  \n\nThéodore Monod traverse le XXème siècle comme il a traversé le désert : avec passion\, pugnacité et abnégation. \nSes découvertes et ses recherches ont fait de sa vie un témoignage pour les générations futures. \nIl plaidait pour la conscience de la totalité du monde et du cosmos et le respect du vivant dans son ensemble. \nUn spectacle sur sa personne ? Que nenni ! Un spectacle où Théodore nous embarque à la rencontre du vivant ! \n\n 
URL:https://compagnielamarelle.ch/event/bussigny-theodore-monod-2/
LOCATION:Maison des oeuvres Lajoux\, Route principale 54 A\, Lajoux\, 2718\, Switzerland
ATTACH;FMTTYPE=image/jpeg:https://compagnielamarelle.ch/wp-content/uploads/2025/08/Flyer_monod_A5_marelle_2025.jpg
END:VEVENT
BEGIN:VEVENT
DTSTART;TZID=Europe/Zurich:20251114T190000
DTEND;TZID=Europe/Zurich:20251114T201500
DTSTAMP:20260420T085152
CREATED:20251012T093752Z
LAST-MODIFIED:20251012T093752Z
UID:30067-1763146800-1763151300@compagnielamarelle.ch
SUMMARY:Zürich- Théodore Monod
DESCRIPTION:  \n\nThéodore Monod traverse le XXème siècle comme il a traversé le désert : avec passion\, pugnacité et abnégation. \nSes découvertes et ses recherches ont fait de sa vie un témoignage pour les générations futures. \nIl plaidait pour la conscience de la totalité du monde et du cosmos et le respect du vivant dans son ensemble. \nUn spectacle sur sa personne ? Que nenni ! Un spectacle où Théodore nous embarque à la rencontre du vivant ! \n\n 
URL:https://compagnielamarelle.ch/event/zurich-theodore-monod/
LOCATION:Eglise française de Zürich\, Schanzengasse 25\, Zurich\, Zurich\, 8001\, Switzerland
ATTACH;FMTTYPE=image/jpeg:https://compagnielamarelle.ch/wp-content/uploads/2025/08/Flyer_monod_A5_marelle_2025.jpg
END:VEVENT
BEGIN:VEVENT
DTSTART;TZID=Europe/Zurich:20251115T200000
DTEND;TZID=Europe/Zurich:20251115T211500
DTSTAMP:20260420T085152
CREATED:20251012T093909Z
LAST-MODIFIED:20251012T093909Z
UID:30070-1763236800-1763241300@compagnielamarelle.ch
SUMMARY:Moutier - Théodore Monod
DESCRIPTION:  \n\nThéodore Monod traverse le XXème siècle comme il a traversé le désert : avec passion\, pugnacité et abnégation. \nSes découvertes et ses recherches ont fait de sa vie un témoignage pour les générations futures. \nIl plaidait pour la conscience de la totalité du monde et du cosmos et le respect du vivant dans son ensemble. \nUn spectacle sur sa personne ? Que nenni ! Un spectacle où Théodore nous embarque à la rencontre du vivant ! \n\n 
URL:https://compagnielamarelle.ch/event/moutier-theodore-monod/
LOCATION:Maison des oeuvres de Moutier\, Rue du midi 6\, Moutier\, 2740\, Switzerland
ATTACH;FMTTYPE=image/jpeg:https://compagnielamarelle.ch/wp-content/uploads/2025/08/Flyer_monod_A5_marelle_2025.jpg
END:VEVENT
BEGIN:VEVENT
DTSTART;TZID=Europe/Zurich:20251116T170000
DTEND;TZID=Europe/Zurich:20251116T181500
DTSTAMP:20260420T085152
CREATED:20251012T094011Z
LAST-MODIFIED:20251012T094011Z
UID:30072-1763312400-1763316900@compagnielamarelle.ch
SUMMARY:Meyrin - Théodore Monod
DESCRIPTION:  \n\nThéodore Monod traverse le XXème siècle comme il a traversé le désert : avec passion\, pugnacité et abnégation. \nSes découvertes et ses recherches ont fait de sa vie un témoignage pour les générations futures. \nIl plaidait pour la conscience de la totalité du monde et du cosmos et le respect du vivant dans son ensemble. \nUn spectacle sur sa personne ? Que nenni ! Un spectacle où Théodore nous embarque à la rencontre du vivant ! \n\n 
URL:https://compagnielamarelle.ch/event/meyrin-theodore-monod/
LOCATION:Centre paroissial Oecuménique Meyrin\, Rue du Livron 20\, Meyrin\, 1217\, Switzerland
ATTACH;FMTTYPE=image/jpeg:https://compagnielamarelle.ch/wp-content/uploads/2025/08/Flyer_monod_A5_marelle_2025.jpg
END:VEVENT
BEGIN:VEVENT
DTSTART;TZID=Europe/Zurich:20251119T200000
DTEND;TZID=Europe/Zurich:20251119T211500
DTSTAMP:20260420T085152
CREATED:20251012T094156Z
LAST-MODIFIED:20251012T094156Z
UID:30074-1763582400-1763586900@compagnielamarelle.ch
SUMMARY:Neuchâtel - Théodore Monod
DESCRIPTION:  \n\nThéodore Monod traverse le XXème siècle comme il a traversé le désert : avec passion\, pugnacité et abnégation. \nSes découvertes et ses recherches ont fait de sa vie un témoignage pour les générations futures. \nIl plaidait pour la conscience de la totalité du monde et du cosmos et le respect du vivant dans son ensemble. \nUn spectacle sur sa personne ? Que nenni ! Un spectacle où Théodore nous embarque à la rencontre du vivant ! \n\n 
URL:https://compagnielamarelle.ch/event/neuchatel-theodore-monod/
LOCATION:Temple du bas\, Rue du Temple-Neuf 5\, Neuchâtel\, 2000\, Switzerland
ATTACH;FMTTYPE=image/jpeg:https://compagnielamarelle.ch/wp-content/uploads/2025/08/Flyer_monod_A5_marelle_2025.jpg
END:VEVENT
BEGIN:VEVENT
DTSTART;TZID=Europe/Zurich:20251120T193000
DTEND;TZID=Europe/Zurich:20251120T204500
DTSTAMP:20260420T085152
CREATED:20251012T094547Z
LAST-MODIFIED:20251012T094547Z
UID:30077-1763667000-1763671500@compagnielamarelle.ch
SUMMARY:Plagne - Théodore Monod
DESCRIPTION:  \n\nThéodore Monod traverse le XXème siècle comme il a traversé le désert : avec passion\, pugnacité et abnégation. \nSes découvertes et ses recherches ont fait de sa vie un témoignage pour les générations futures. \nIl plaidait pour la conscience de la totalité du monde et du cosmos et le respect du vivant dans son ensemble. \nUn spectacle sur sa personne ? Que nenni ! Un spectacle où Théodore nous embarque à la rencontre du vivant ! \n\n 
URL:https://compagnielamarelle.ch/event/plagne-theodore-monod/
LOCATION:Centre Communal de Plagne\, Centre communal Plagne\, Champ du Châble 10\, Plagne\, Berne\, 2536\, Switzerland
ATTACH;FMTTYPE=image/jpeg:https://compagnielamarelle.ch/wp-content/uploads/2025/08/Flyer_monod_A5_marelle_2025.jpg
END:VEVENT
BEGIN:VEVENT
DTSTART;TZID=Europe/Zurich:20251121T200000
DTEND;TZID=Europe/Zurich:20251121T211500
DTSTAMP:20260420T085152
CREATED:20251012T094801Z
LAST-MODIFIED:20251012T094801Z
UID:30076-1763755200-1763759700@compagnielamarelle.ch
SUMMARY:Fleurier - Théodore Monod
DESCRIPTION:  \n\nThéodore Monod traverse le XXème siècle comme il a traversé le désert : avec passion\, pugnacité et abnégation. \nSes découvertes et ses recherches ont fait de sa vie un témoignage pour les générations futures. \nIl plaidait pour la conscience de la totalité du monde et du cosmos et le respect du vivant dans son ensemble. \nUn spectacle sur sa personne ? Que nenni ! Un spectacle où Théodore nous embarque à la rencontre du vivant ! \n\n 
URL:https://compagnielamarelle.ch/event/fleurier-theodore-monod/
LOCATION:salle fleurisia\, Rue du pré 8\, Fleurier\, Neuchâtel\, 2114\, Switzerland
ATTACH;FMTTYPE=image/jpeg:https://compagnielamarelle.ch/wp-content/uploads/2025/08/Flyer_monod_A5_marelle_2025.jpg
END:VEVENT
BEGIN:VEVENT
DTSTART;TZID=Europe/Zurich:20251122T200000
DTEND;TZID=Europe/Zurich:20251122T211500
DTSTAMP:20260420T085152
CREATED:20251012T094849Z
LAST-MODIFIED:20251012T094849Z
UID:30082-1763841600-1763846100@compagnielamarelle.ch
SUMMARY:Bex - Théodore Monod
DESCRIPTION:  \n\nThéodore Monod traverse le XXème siècle comme il a traversé le désert : avec passion\, pugnacité et abnégation. \nSes découvertes et ses recherches ont fait de sa vie un témoignage pour les générations futures. \nIl plaidait pour la conscience de la totalité du monde et du cosmos et le respect du vivant dans son ensemble. \nUn spectacle sur sa personne ? Que nenni ! Un spectacle où Théodore nous embarque à la rencontre du vivant ! \n\n 
URL:https://compagnielamarelle.ch/event/bex-theodore-monod/
LOCATION:Temple de Bex\, Rue du idi 4-8\, Bex\, 1880\, Switzerland
ATTACH;FMTTYPE=image/jpeg:https://compagnielamarelle.ch/wp-content/uploads/2025/08/Flyer_monod_A5_marelle_2025.jpg
END:VEVENT
BEGIN:VEVENT
DTSTART;TZID=Europe/Zurich:20251123T170000
DTEND;TZID=Europe/Zurich:20251123T181500
DTSTAMP:20260420T085152
CREATED:20251012T095100Z
LAST-MODIFIED:20251012T095100Z
UID:30084-1763917200-1763921700@compagnielamarelle.ch
SUMMARY:La Neuveville - Théodore Monod
DESCRIPTION:  \n\nThéodore Monod traverse le XXème siècle comme il a traversé le désert : avec passion\, pugnacité et abnégation. \nSes découvertes et ses recherches ont fait de sa vie un témoignage pour les générations futures. \nIl plaidait pour la conscience de la totalité du monde et du cosmos et le respect du vivant dans son ensemble. \nUn spectacle sur sa personne ? Que nenni ! Un spectacle où Théodore nous embarque à la rencontre du vivant ! \n\n 
URL:https://compagnielamarelle.ch/event/la-neuveville-theodore-monod/
LOCATION:café-Théatre de la tour de rive\, Place de la Liberté\, La Neuveville\, 2520\, Switzerland
ATTACH;FMTTYPE=image/jpeg:https://compagnielamarelle.ch/wp-content/uploads/2025/08/Flyer_monod_A5_marelle_2025.jpg
END:VEVENT
BEGIN:VEVENT
DTSTART;TZID=Europe/Zurich:20251125T200000
DTEND;TZID=Europe/Zurich:20251125T211500
DTSTAMP:20260420T085152
CREATED:20251012T095326Z
LAST-MODIFIED:20251012T095356Z
UID:30086-1764100800-1764105300@compagnielamarelle.ch
SUMMARY:Domdidier - Théodore Monod
DESCRIPTION:  \n\nThéodore Monod traverse le XXème siècle comme il a traversé le désert : avec passion\, pugnacité et abnégation. \nSes découvertes et ses recherches ont fait de sa vie un témoignage pour les générations futures. \nIl plaidait pour la conscience de la totalité du monde et du cosmos et le respect du vivant dans son ensemble. \nUn spectacle sur sa personne ? Que nenni ! Un spectacle où Théodore nous embarque à la rencontre du vivant ! \n\n 
URL:https://compagnielamarelle.ch/event/la-neuveville-theodore-monod-2/
LOCATION:Espace Pierre Huwiler\, Route des Vuarines 41\, Domdidier\, Fribourg\, 1564\, Switzerland
ATTACH;FMTTYPE=image/jpeg:https://compagnielamarelle.ch/wp-content/uploads/2025/08/Flyer_monod_A5_marelle_2025.jpg
END:VEVENT
BEGIN:VEVENT
DTSTART;TZID=Europe/Zurich:20251126T193000
DTEND;TZID=Europe/Zurich:20251126T204500
DTSTAMP:20260420T085152
CREATED:20251012T095634Z
LAST-MODIFIED:20251012T095756Z
UID:30090-1764185400-1764189900@compagnielamarelle.ch
SUMMARY:Porrentruy - Théodore Monod
DESCRIPTION:  \n\nThéodore Monod traverse le XXème siècle comme il a traversé le désert : avec passion\, pugnacité et abnégation. \nSes découvertes et ses recherches ont fait de sa vie un témoignage pour les générations futures. \nIl plaidait pour la conscience de la totalité du monde et du cosmos et le respect du vivant dans son ensemble. \nUn spectacle sur sa personne ? Que nenni ! Un spectacle où Théodore nous embarque à la rencontre du vivant ! \n\n 
URL:https://compagnielamarelle.ch/event/porrentruy-theodore-monod/
LOCATION:Centre paroissial Porrentuy\, Rue du temple 17\, Porrentruy\, Jura\, 2900\, Switzerland
ATTACH;FMTTYPE=image/jpeg:https://compagnielamarelle.ch/wp-content/uploads/2025/08/Flyer_monod_A5_marelle_2025.jpg
END:VEVENT
BEGIN:VEVENT
DTSTART;TZID=Europe/Zurich:20251127T200000
DTEND;TZID=Europe/Zurich:20251127T211500
DTSTAMP:20260420T085152
CREATED:20251012T095926Z
LAST-MODIFIED:20251012T095926Z
UID:30093-1764273600-1764278100@compagnielamarelle.ch
SUMMARY:Delémont - Théodore Monod
DESCRIPTION:  \n\nThéodore Monod traverse le XXème siècle comme il a traversé le désert : avec passion\, pugnacité et abnégation. \nSes découvertes et ses recherches ont fait de sa vie un témoignage pour les générations futures. \nIl plaidait pour la conscience de la totalité du monde et du cosmos et le respect du vivant dans son ensemble. \nUn spectacle sur sa personne ? Que nenni ! Un spectacle où Théodore nous embarque à la rencontre du vivant ! \n\n 
URL:https://compagnielamarelle.ch/event/delemont-theodore-monod/
LOCATION:Centre Avenir\, Avenir 41\, Delémont\, Jura\, 2800\, Switzerland
ATTACH;FMTTYPE=image/jpeg:https://compagnielamarelle.ch/wp-content/uploads/2025/08/Flyer_monod_A5_marelle_2025.jpg
END:VEVENT
BEGIN:VEVENT
DTSTART;TZID=Europe/Zurich:20251128T193000
DTEND;TZID=Europe/Zurich:20251128T204500
DTSTAMP:20260420T085152
CREATED:20251021T130643Z
LAST-MODIFIED:20251021T130643Z
UID:30108-1764358200-1764362700@compagnielamarelle.ch
SUMMARY:Puidoux (Crêt-Bérard) - Théodore Monod
DESCRIPTION:  \n\nThéodore Monod traverse le XXème siècle comme il a traversé le désert : avec passion\, pugnacité et abnégation. \nSes découvertes et ses recherches ont fait de sa vie un témoignage pour les générations futures. \nIl plaidait pour la conscience de la totalité du monde et du cosmos et le respect du vivant dans son ensemble. \nUn spectacle sur sa personne ? Que nenni ! Un spectacle où Théodore nous embarque à la rencontre du vivant ! \n\n 
URL:https://compagnielamarelle.ch/event/puidoux-cret-berard-theodore-monod/
LOCATION:Cret-Bérard\, Chemin de la Chapelle 19 a\, Puidoux\, Vaud\, 1070\, Switzerland
ATTACH;FMTTYPE=image/jpeg:https://compagnielamarelle.ch/wp-content/uploads/2025/08/Flyer_monod_A5_marelle_2025.jpg
END:VEVENT
BEGIN:VEVENT
DTSTART;TZID=Europe/Zurich:20251130T170000
DTEND;TZID=Europe/Zurich:20251130T181500
DTSTAMP:20260420T085152
CREATED:20251012T100138Z
LAST-MODIFIED:20251012T100355Z
UID:30096-1764522000-1764526500@compagnielamarelle.ch
SUMMARY:Boudry - Théodore Monod
DESCRIPTION:  \n\nThéodore Monod traverse le XXème siècle comme il a traversé le désert : avec passion\, pugnacité et abnégation. \nSes découvertes et ses recherches ont fait de sa vie un témoignage pour les générations futures. \nIl plaidait pour la conscience de la totalité du monde et du cosmos et le respect du vivant dans son ensemble. \nUn spectacle sur sa personne ? Que nenni ! Un spectacle où Théodore nous embarque à la rencontre du vivant ! \n\n 
URL:https://compagnielamarelle.ch/event/puidoux-theodore-monod/
LOCATION:Salle Eglise Catholique de Boudry\, Rue des Lisières 10\, Boudry\, Neuchâtel\, 2017\, Switzerland
ATTACH;FMTTYPE=image/jpeg:https://compagnielamarelle.ch/wp-content/uploads/2025/08/Flyer_monod_A5_marelle_2025.jpg
END:VEVENT
END:VCALENDAR