BEGIN:VCALENDAR
VERSION:2.0
PRODID:-//Compagnie La Marelle Lausanne/Suisse - ECPv6.15.11//NONSGML v1.0//EN
CALSCALE:GREGORIAN
METHOD:PUBLISH
X-ORIGINAL-URL:https://compagnielamarelle.ch
X-WR-CALDESC:Évènements pour Compagnie La Marelle Lausanne/Suisse
REFRESH-INTERVAL;VALUE=DURATION:PT1H
X-Robots-Tag:noindex
X-PUBLISHED-TTL:PT1H
BEGIN:VTIMEZONE
TZID:Europe/Zurich
BEGIN:DAYLIGHT
TZOFFSETFROM:+0100
TZOFFSETTO:+0200
TZNAME:CEST
DTSTART:20250330T010000
END:DAYLIGHT
BEGIN:STANDARD
TZOFFSETFROM:+0200
TZOFFSETTO:+0100
TZNAME:CET
DTSTART:20251026T010000
END:STANDARD
BEGIN:DAYLIGHT
TZOFFSETFROM:+0100
TZOFFSETTO:+0200
TZNAME:CEST
DTSTART:20260329T010000
END:DAYLIGHT
BEGIN:STANDARD
TZOFFSETFROM:+0200
TZOFFSETTO:+0100
TZNAME:CET
DTSTART:20261025T010000
END:STANDARD
BEGIN:DAYLIGHT
TZOFFSETFROM:+0100
TZOFFSETTO:+0200
TZNAME:CEST
DTSTART:20270328T010000
END:DAYLIGHT
BEGIN:STANDARD
TZOFFSETFROM:+0200
TZOFFSETTO:+0100
TZNAME:CET
DTSTART:20271031T010000
END:STANDARD
END:VTIMEZONE
BEGIN:VEVENT
DTSTART;TZID=Europe/Zurich:20260504T200000
DTEND;TZID=Europe/Zurich:20260504T211500
DTSTAMP:20260420T085137
CREATED:20260311T091507Z
LAST-MODIFIED:20260311T091507Z
UID:30168-1777924800-1777929300@compagnielamarelle.ch
SUMMARY:SELESTAT
DESCRIPTION:  \n\nThéodore Monod traverse le XXème siècle comme il a traversé le désert : avec passion\, pugnacité et abnégation. \nSes découvertes et ses recherches ont fait de sa vie un témoignage pour les générations futures. \nIl plaidait pour la conscience de la totalité du monde et du cosmos et le respect du vivant dans son ensemble. \nUn spectacle sur sa personne ? Que nenni ! Un spectacle où Théodore nous embarque à la rencontre du vivant ! \n\n 
URL:https://compagnielamarelle.ch/event/selestat/
LOCATION:Eglise protestante de Sélestat\, Place du marché aux pots\, Sélestat\, France
ATTACH;FMTTYPE=image/jpeg:https://compagnielamarelle.ch/wp-content/uploads/2025/08/Flyer_monod_A5_marelle_2025.jpg
END:VEVENT
BEGIN:VEVENT
DTSTART;TZID=Europe/Zurich:20260505T200000
DTEND;TZID=Europe/Zurich:20260505T211500
DTSTAMP:20260420T085137
CREATED:20260311T091656Z
LAST-MODIFIED:20260311T091656Z
UID:30170-1778011200-1778015700@compagnielamarelle.ch
SUMMARY:SCHILTIGHEIM
DESCRIPTION:  \n\nThéodore Monod traverse le XXème siècle comme il a traversé le désert : avec passion\, pugnacité et abnégation. \nSes découvertes et ses recherches ont fait de sa vie un témoignage pour les générations futures. \nIl plaidait pour la conscience de la totalité du monde et du cosmos et le respect du vivant dans son ensemble. \nUn spectacle sur sa personne ? Que nenni ! Un spectacle où Théodore nous embarque à la rencontre du vivant ! \n\n 
URL:https://compagnielamarelle.ch/event/schiltigheim/
LOCATION:Eglise de la Trinité\, 68 rue du Général De Gaulle\, Schiltigheim\, France
ATTACH;FMTTYPE=image/jpeg:https://compagnielamarelle.ch/wp-content/uploads/2025/08/Flyer_monod_A5_marelle_2025.jpg
END:VEVENT
BEGIN:VEVENT
DTSTART;TZID=Europe/Zurich:20260506T200000
DTEND;TZID=Europe/Zurich:20260506T211500
DTSTAMP:20260420T085137
CREATED:20260311T091820Z
LAST-MODIFIED:20260311T091820Z
UID:30172-1778097600-1778102100@compagnielamarelle.ch
SUMMARY:CERNAY
DESCRIPTION:  \n\nThéodore Monod traverse le XXème siècle comme il a traversé le désert : avec passion\, pugnacité et abnégation. \nSes découvertes et ses recherches ont fait de sa vie un témoignage pour les générations futures. \nIl plaidait pour la conscience de la totalité du monde et du cosmos et le respect du vivant dans son ensemble. \nUn spectacle sur sa personne ? Que nenni ! Un spectacle où Théodore nous embarque à la rencontre du vivant ! \n\n 
URL:https://compagnielamarelle.ch/event/cernay/
LOCATION:Eglise du St-Esprit\, Rue Jean-Paul Carrère\, Cernay\, France
ATTACH;FMTTYPE=image/jpeg:https://compagnielamarelle.ch/wp-content/uploads/2025/08/Flyer_monod_A5_marelle_2025.jpg
END:VEVENT
BEGIN:VEVENT
DTSTART;TZID=Europe/Zurich:20260507T200000
DTEND;TZID=Europe/Zurich:20260507T211500
DTSTAMP:20260420T085137
CREATED:20260311T091921Z
LAST-MODIFIED:20260311T091921Z
UID:30174-1778184000-1778188500@compagnielamarelle.ch
SUMMARY:MUNSTER
DESCRIPTION:  \n\nThéodore Monod traverse le XXème siècle comme il a traversé le désert : avec passion\, pugnacité et abnégation. \nSes découvertes et ses recherches ont fait de sa vie un témoignage pour les générations futures. \nIl plaidait pour la conscience de la totalité du monde et du cosmos et le respect du vivant dans son ensemble. \nUn spectacle sur sa personne ? Que nenni ! Un spectacle où Théodore nous embarque à la rencontre du vivant ! \n\n 
URL:https://compagnielamarelle.ch/event/munster/
LOCATION:Eglise protestante de Munster\, Place du marché\, Munster\, France
ATTACH;FMTTYPE=image/jpeg:https://compagnielamarelle.ch/wp-content/uploads/2025/08/Flyer_monod_A5_marelle_2025.jpg
END:VEVENT
BEGIN:VEVENT
DTSTART;TZID=Europe/Zurich:20260508T170000
DTEND;TZID=Europe/Zurich:20260508T170000
DTSTAMP:20260420T085137
CREATED:20260311T092029Z
LAST-MODIFIED:20260311T092029Z
UID:30176-1778259600-1778259600@compagnielamarelle.ch
SUMMARY:LANGENSOULTZBACH
DESCRIPTION:  \n\nThéodore Monod traverse le XXème siècle comme il a traversé le désert : avec passion\, pugnacité et abnégation. \nSes découvertes et ses recherches ont fait de sa vie un témoignage pour les générations futures. \nIl plaidait pour la conscience de la totalité du monde et du cosmos et le respect du vivant dans son ensemble. \nUn spectacle sur sa personne ? Que nenni ! Un spectacle où Théodore nous embarque à la rencontre du vivant ! \n\n 
URL:https://compagnielamarelle.ch/event/langensoultzbach/
LOCATION:Salle socio-Culturelle de Langensoultzbach\, 1 rue de Nehwiller\, Langensoultzbach\, France
ATTACH;FMTTYPE=image/jpeg:https://compagnielamarelle.ch/wp-content/uploads/2025/08/Flyer_monod_A5_marelle_2025.jpg
END:VEVENT
BEGIN:VEVENT
DTSTART;TZID=Europe/Zurich:20260510T170000
DTEND;TZID=Europe/Zurich:20260510T170000
DTSTAMP:20260420T085137
CREATED:20260311T092205Z
LAST-MODIFIED:20260311T092205Z
UID:30178-1778432400-1778432400@compagnielamarelle.ch
SUMMARY:WASSELONNE
DESCRIPTION:  \n\nThéodore Monod traverse le XXème siècle comme il a traversé le désert : avec passion\, pugnacité et abnégation. \nSes découvertes et ses recherches ont fait de sa vie un témoignage pour les générations futures. \nIl plaidait pour la conscience de la totalité du monde et du cosmos et le respect du vivant dans son ensemble. \nUn spectacle sur sa personne ? Que nenni ! Un spectacle où Théodore nous embarque à la rencontre du vivant ! \n\n 
URL:https://compagnielamarelle.ch/event/wasselonne/
LOCATION:Espace St-Laurent\, Wasselonne\, 1\, rue de Cosswiller\, Wasselonne\, France
ATTACH;FMTTYPE=image/jpeg:https://compagnielamarelle.ch/wp-content/uploads/2025/08/Flyer_monod_A5_marelle_2025.jpg
END:VEVENT
BEGIN:VEVENT
DTSTART;TZID=Europe/Zurich:20260512T203000
DTEND;TZID=Europe/Zurich:20260512T214500
DTSTAMP:20260420T085137
CREATED:20260311T092636Z
LAST-MODIFIED:20260311T092636Z
UID:30180-1778617800-1778622300@compagnielamarelle.ch
SUMMARY:VERNOUX
DESCRIPTION:  \n\nThéodore Monod traverse le XXème siècle comme il a traversé le désert : avec passion\, pugnacité et abnégation. \nSes découvertes et ses recherches ont fait de sa vie un témoignage pour les générations futures. \nIl plaidait pour la conscience de la totalité du monde et du cosmos et le respect du vivant dans son ensemble. \nUn spectacle sur sa personne ? Que nenni ! Un spectacle où Théodore nous embarque à la rencontre du vivant ! \n\n 
URL:https://compagnielamarelle.ch/event/vernoux/
LOCATION:Salle du Lac aux Ramiers\, 1 av. JM Chambaud\, Vernoux\, 07240\, France
ATTACH;FMTTYPE=image/jpeg:https://compagnielamarelle.ch/wp-content/uploads/2025/08/Flyer_monod_A5_marelle_2025.jpg
END:VEVENT
END:VCALENDAR